BEGIN:VCALENDAR
VERSION:1.0
PRODID:Open2CKalenderExportV11
BEGIN:VEVENT
DTSTAMP:20260423T154252Z
DTSTART:20260501T000000Z
DTEND:20260501T000000Z
CATEGORIES:Verschiedenes
SUMMARY:Maibaumaufstellen 2026
DESCRIPTION: | Organisator   Maibaumfreunde
LOCATION:
UID:9f1dd3848f9f83046fcce317148b4b8a-fb8705908922ccf7fe0c547409dced9a
PRIORITY:3
END:VEVENT
END:VCALENDAR
