BEGIN:VCALENDAR
VERSION:2.0
PRODID:< http://www.open2c.de/ >
METHOD:PUBLISH
X-PUBLISHED-TTL:PT12H
BEGIN:VEVENT
CREATED:20260423T154059Z
LAST-MODIFIED:20260423T154252Z
ORGANIZER;CN="Maibaumfreunde"
DTSTAMP:20260424T184658Z
DTSTART;VALUE=DATE:20260501
CATEGORIES:Verschiedenes
SUMMARY:Maibaumaufstellen 2026
DESCRIPTION: Organisator Maibaumfreunde
UID:ff968fe9f57884f71ddccb24ff80207c@a16163c7a1cfb3ed6c8a9ed1b46d3ccc
END:VEVENT
END:VCALENDAR